BEGIN:VCALENDAR
VERSION:2.0
PRODID:-//YourCompany//YourApp//EN
CALSCALE:GREGORIAN
METHOD:PUBLISH
BEGIN:VEVENT
UID:8e0576bd668229ac11b8b46017cf8510@eventosaaoo.com.ar
DTSTAMP:20260425T143131Z
DTSTART:20261127T213000Z
DTEND:20261127T223000Z
SUMMARY:Curso Bianual 2026-2027  - EXAMEN 2026
DESCRIPTION:Ubicación: Sala Virtual \n\nEnlace: https://www.eventosaaoo.com.ar/sala-virtual
LOCATION:Sala Virtual 
END:VEVENT
END:VCALENDAR
