BEGIN:VCALENDAR
VERSION:2.0
PRODID:-//YourCompany//YourApp//EN
CALSCALE:GREGORIAN
METHOD:PUBLISH
BEGIN:VEVENT
UID:9c876448fcbcdc7010d385fb48cb5a1b@eventosaaoo.com.ar
DTSTAMP:20260425T143309Z
DTSTART:20260626T210000Z
DTEND:20260626T230000Z
SUMMARY:Curso Bianual 2026-2027  - SARCOMA DE EWING
DESCRIPTION:Docente Dr. Jorge$1 Fernando\n\nUbicación: Sala Virtual \n\nEnlace: https://www.eventosaaoo.com.ar/sala-virtual
LOCATION:Sala Virtual 
END:VEVENT
END:VCALENDAR
